BEGIN:VCALENDAR
VERSION:2.0
PRODID:-//SUNY Westchester Community College - ECPv6.15.16//NONSGML v1.0//EN
CALSCALE:GREGORIAN
METHOD:PUBLISH
X-WR-CALNAME:SUNY Westchester Community College
X-ORIGINAL-URL:https://www.sunywcc.edu
X-WR-CALDESC:Events for SUNY Westchester Community College
REFRESH-INTERVAL;VALUE=DURATION:PT1H
X-Robots-Tag:noindex
X-PUBLISHED-TTL:PT1H
BEGIN:VTIMEZONE
TZID:America/New_York
BEGIN:DAYLIGHT
TZOFFSETFROM:-0500
TZOFFSETTO:-0400
TZNAME:EDT
DTSTART:20250309T070000
END:DAYLIGHT
BEGIN:STANDARD
TZOFFSETFROM:-0400
TZOFFSETTO:-0500
TZNAME:EST
DTSTART:20251102T060000
END:STANDARD
BEGIN:DAYLIGHT
TZOFFSETFROM:-0500
TZOFFSETTO:-0400
TZNAME:EDT
DTSTART:20260308T070000
END:DAYLIGHT
BEGIN:STANDARD
TZOFFSETFROM:-0400
TZOFFSETTO:-0500
TZNAME:EST
DTSTART:20261101T060000
END:STANDARD
BEGIN:DAYLIGHT
TZOFFSETFROM:-0500
TZOFFSETTO:-0400
TZNAME:EDT
DTSTART:20270314T070000
END:DAYLIGHT
BEGIN:STANDARD
TZOFFSETFROM:-0400
TZOFFSETTO:-0500
TZNAME:EST
DTSTART:20271107T060000
END:STANDARD
END:VTIMEZONE
BEGIN:VEVENT
DTSTART;TZID=America/New_York:20260422T120000
DTEND;TZID=America/New_York:20260422T130000
DTSTAMP:20260421T160836
CREATED:20260415T180650Z
LAST-MODIFIED:20260415T180715Z
UID:10001817-1776859200-1776862800@www.sunywcc.edu
SUMMARY:Money Smart: Living on Your Own
DESCRIPTION:Meets Virtually on Zoom \nRegister to Attend \nLiving on your own is a big step\, this online session breaks down housing options and helps you decide what you really need in a place to call home.
URL:https://www.sunywcc.edu/events/money-smart-living-on-your-own/
LOCATION:Online
CATEGORIES:Money Smart
END:VEVENT
BEGIN:VEVENT
DTSTART;TZID=America/New_York:20260429T114500
DTEND;TZID=America/New_York:20260429T130000
DTSTAMP:20260421T160837
CREATED:20260108T153530Z
LAST-MODIFIED:20260415T180709Z
UID:10001429-1777463100-1777467600@www.sunywcc.edu
SUMMARY:Money Smart: Preparing for a Financial Emergency
DESCRIPTION:Gateway Center\, Room 110 \nRegister to Attend \nUnexpected expenses and financial disruptions can happen at any time\, and being prepared can make all the difference. This presentation will help you understand what qualifies as a financial emergency and why having a plan in place is essential. Learn practical strategies to start and grow a financial safety net\, and gain tools to navigate periods of financial uncertainty with confidence. By the end of the session\, you’ll be better equipped to protect yourself and your finances when the unexpected occurs.
URL:https://www.sunywcc.edu/events/money-smart-preparing-for-a-financial-emergency/
LOCATION:SUNY Westchester Valhalla\, 75 Grasslands Road\, Valhalla\, NY\, 10595\, United States
CATEGORIES:Money Smart
END:VEVENT
END:VCALENDAR