BEGIN:VCALENDAR
VERSION:2.0
PRODID:-//SUNY Westchester Community College - ECPv6.15.16//NONSGML v1.0//EN
CALSCALE:GREGORIAN
METHOD:PUBLISH
X-WR-CALNAME:SUNY Westchester Community College
X-ORIGINAL-URL:https://www.sunywcc.edu
X-WR-CALDESC:Events for SUNY Westchester Community College
REFRESH-INTERVAL;VALUE=DURATION:PT1H
X-Robots-Tag:noindex
X-PUBLISHED-TTL:PT1H
BEGIN:VTIMEZONE
TZID:America/New_York
BEGIN:DAYLIGHT
TZOFFSETFROM:-0500
TZOFFSETTO:-0400
TZNAME:EDT
DTSTART:20250309T070000
END:DAYLIGHT
BEGIN:STANDARD
TZOFFSETFROM:-0400
TZOFFSETTO:-0500
TZNAME:EST
DTSTART:20251102T060000
END:STANDARD
BEGIN:DAYLIGHT
TZOFFSETFROM:-0500
TZOFFSETTO:-0400
TZNAME:EDT
DTSTART:20260308T070000
END:DAYLIGHT
BEGIN:STANDARD
TZOFFSETFROM:-0400
TZOFFSETTO:-0500
TZNAME:EST
DTSTART:20261101T060000
END:STANDARD
BEGIN:DAYLIGHT
TZOFFSETFROM:-0500
TZOFFSETTO:-0400
TZNAME:EDT
DTSTART:20270314T070000
END:DAYLIGHT
BEGIN:STANDARD
TZOFFSETFROM:-0400
TZOFFSETTO:-0500
TZNAME:EST
DTSTART:20271107T060000
END:STANDARD
END:VTIMEZONE
BEGIN:VEVENT
DTSTART;TZID=America/New_York:20260423T110000
DTEND;TZID=America/New_York:20260423T130000
DTSTAMP:20260423T014033
CREATED:20260408T161645Z
LAST-MODIFIED:20260417T200358Z
UID:10001796-1776942000-1776949200@www.sunywcc.edu
SUMMARY:Denim Day: Prevent Sexual Violence
DESCRIPTION:David Swope Student Center\, Table outside the cafeteria \nJoin millions of people across the world that will wear jeans with a purpose on Denim Day\, support survivors\, and educate themselves and others about all forms of sexual violence. Stop by the table to make a pledge and learn about organizations in our area working to prevent and service victims of sexual violence.
URL:https://www.sunywcc.edu/events/denim-day-prevent-sexual-violence/
LOCATION:SUNY Westchester Valhalla\, 75 Grasslands Road\, Valhalla\, NY\, 10595\, United States
ORGANIZER;CN="Mental Health and Counseling Services":MAILTO:mentalhealthservices@sunywcc.edu
END:VEVENT
BEGIN:VEVENT
DTSTART;TZID=America/New_York:20260423T160000
DTEND;TZID=America/New_York:20260423T170000
DTSTAMP:20260423T014033
CREATED:20260323T150229Z
LAST-MODIFIED:20260414T185618Z
UID:10001787-1776960000-1776963600@www.sunywcc.edu
SUMMARY:Hope Beyond the Headlines Online Support Group
DESCRIPTION:This is a support group for students who are experiencing stress\, anxiety\, worry\, depression or any challenges from the content of the news and or/ current political topics. The group aims to provide a safe\, peaceful space for students to talk about their concerns and support one another\, while learning skills to manage stress\, anxiety\, worry. \nRSVP to Attend \nAttend via Zoom
URL:https://www.sunywcc.edu/events/hope-beyond-the-headlines-online-support-group-4/
LOCATION:Online
CATEGORIES:Hope Beyond the Headlines Online Support Group
ORGANIZER;CN="Mental Health and Counseling Services":MAILTO:mentalhealthservices@sunywcc.edu
END:VEVENT
BEGIN:VEVENT
DTSTART;TZID=America/New_York:20260423T160000
DTEND;TZID=America/New_York:20260423T180000
DTSTAMP:20260423T014033
CREATED:20260409T180021Z
LAST-MODIFIED:20260409T180129Z
UID:10001799-1776960000-1776967200@www.sunywcc.edu
SUMMARY:Meet the Pros: Communications and Media Arts Industry
DESCRIPTION:Technology Building\, Room TECH 137 (Student Lounge) \nPresented by the Communications and Media Arts Degree Program in Partnership with the Volunteer Office and POWER 88.1 \nCurious about what it’s really like to work in the communications and media arts industry? Join Skip Dillard\, Brand Manager of 94.7 The Block New York City for a relaxed and candid conversation about breaking into the field and building a successful career.  \nSkip will share personal stories\, insider insights\, and practical advice on how to stand out in today’s fast-paced media landscape. You will also have the opportunity to ask your own questions during a live Q&A.  \nWhether you’re interested in radio\, podcasting\, corporate communications\, or digital storytelling\, this is your chance to connect\, get inspired\, and gain real-world guidance from one of the industry’s leading voices.  \nFood will be served!
URL:https://www.sunywcc.edu/events/meet-the-pros-communications-and-media-arts-industry/
LOCATION:SUNY Westchester Valhalla\, 75 Grasslands Road\, Valhalla\, NY\, 10595\, United States
END:VEVENT
BEGIN:VEVENT
DTSTART;TZID=America/New_York:20260423T170000
DTEND;TZID=America/New_York:20260423T200000
DTSTAMP:20260423T014033
CREATED:20260306T194904Z
LAST-MODIFIED:20260306T194904Z
UID:10001759-1776963600-1776974400@www.sunywcc.edu
SUMMARY:Mount Vernon Open House
DESCRIPTION:Sign up to Attend\nCome and learn more about the admissions process\, undergraduate courses\, healthcare courses\, ESL courses\, and the GED program at SUNY Westchester Mount Vernon.
URL:https://www.sunywcc.edu/events/mount-vernon-open-house-2/
LOCATION:SUNY Westchester Mount Vernon\, 17 South Fifth Avenue\, Mount Vernon\, NY\, 10550\, United States
ORGANIZER;CN="SUNY Westchester Mount Vernon":MAILTO:mountvernon@sunywcc.edu
END:VEVENT
BEGIN:VEVENT
DTSTART;TZID=America/New_York:20260423T180000
DTEND;TZID=America/New_York:20260423T190000
DTSTAMP:20260423T014033
CREATED:20251014T182736Z
LAST-MODIFIED:20251014T182736Z
UID:10001221-1776967200-1776970800@www.sunywcc.edu
SUMMARY:Job Search: Find Hidden Jobs through Networking & Social Media
DESCRIPTION:Tap the hidden job market via informational interviews\, referrals\, and LinkedIn strategy. \nAttend via Microsoft Teams
URL:https://www.sunywcc.edu/events/job-search-find-hidden-jobs-through-networking-social-media-4/
LOCATION:Online
CATEGORIES:Job Readiness (#Workforce)
ORGANIZER;CN="Workforce Development and Community Education":MAILTO:workforceandcommunity@sunywcc.edu
END:VEVENT
END:VCALENDAR