BEGIN:VCALENDAR
VERSION:2.0
PRODID:-//SUNY Westchester Community College - ECPv6.15.16//NONSGML v1.0//EN
CALSCALE:GREGORIAN
METHOD:PUBLISH
X-WR-CALNAME:SUNY Westchester Community College
X-ORIGINAL-URL:https://www.sunywcc.edu
X-WR-CALDESC:Events for SUNY Westchester Community College
REFRESH-INTERVAL;VALUE=DURATION:PT1H
X-Robots-Tag:noindex
X-PUBLISHED-TTL:PT1H
BEGIN:VTIMEZONE
TZID:America/New_York
BEGIN:DAYLIGHT
TZOFFSETFROM:-0500
TZOFFSETTO:-0400
TZNAME:EDT
DTSTART:20250309T070000
END:DAYLIGHT
BEGIN:STANDARD
TZOFFSETFROM:-0400
TZOFFSETTO:-0500
TZNAME:EST
DTSTART:20251102T060000
END:STANDARD
BEGIN:DAYLIGHT
TZOFFSETFROM:-0500
TZOFFSETTO:-0400
TZNAME:EDT
DTSTART:20260308T070000
END:DAYLIGHT
BEGIN:STANDARD
TZOFFSETFROM:-0400
TZOFFSETTO:-0500
TZNAME:EST
DTSTART:20261101T060000
END:STANDARD
BEGIN:DAYLIGHT
TZOFFSETFROM:-0500
TZOFFSETTO:-0400
TZNAME:EDT
DTSTART:20270314T070000
END:DAYLIGHT
BEGIN:STANDARD
TZOFFSETFROM:-0400
TZOFFSETTO:-0500
TZNAME:EST
DTSTART:20271107T060000
END:STANDARD
END:VTIMEZONE
BEGIN:VEVENT
DTSTART;TZID=America/New_York:20260420T120000
DTEND;TZID=America/New_York:20260420T130000
DTSTAMP:20260420T024926
CREATED:20251120T155529Z
LAST-MODIFIED:20251120T155529Z
UID:10001326-1776686400-1776690000@www.sunywcc.edu
SUMMARY:APIHM: Beyond Ramen: Noodles Across Asia
DESCRIPTION:David Swope Student Center\, Cafeteria Table\nCome by the STC Cultural Lounge to try a wide variety of noodle dishes from all over the Asian continent! There’s so many delicious noodle-based dishes from Asia that aren’t just ramen such as pad thai from Thailand\, pho from Vietnam\, japchae from South Korea\, and more! Learn about the history of these dishes and try a sample at our event!
URL:https://www.sunywcc.edu/events/apihm-beyond-ramen-noodles-across-asia/
LOCATION:SUNY Westchester Valhalla\, 75 Grasslands Road\, Valhalla\, NY\, 10595\, United States
CATEGORIES:Asian Pacific Islander Heritage Month
ORGANIZER;CN="Student Involvement":MAILTO:getinvolved@sunywcc.edu
END:VEVENT
BEGIN:VEVENT
DTSTART;TZID=America/New_York:20260420T180000
DTEND;TZID=America/New_York:20260420T190000
DTSTAMP:20260420T024926
CREATED:20260409T191626Z
LAST-MODIFIED:20260410T140644Z
UID:10001801-1776708000-1776711600@www.sunywcc.edu
SUMMARY:TESOL Certificate Open House
DESCRIPTION:Sign up to Attend \nAt this informational session\, you will learn about the courses and components of the TESOL Certificate Program with its unique blend of theory and hands-on practice. You’ll have an opportunity to ask questions and will leave with a clear concept of the program and how the certificate can help you advance in your career.
URL:https://www.sunywcc.edu/events/tesol-certificate-open-house-2/
LOCATION:Online
CATEGORIES:Prospective Student Info Sessions
ORGANIZER;CN="English Language Institute":MAILTO:esl@sunywcc.edu
END:VEVENT
END:VCALENDAR